BEGIN:VCALENDAR
VERSION:2.0
PRODID:-//eventon.com NONSGML v1.0//EN
CALSCALE:GREGORIAN
METHOD:PUBLISH
BEGIN:VEVENT
UID:69eccc5f588e2
DTSTAMP:20260425T141455Z
DTSTART:20260503T100000Z
DTEND:20260503T113000Z
LOCATION:
SUMMARY:B - Feiner Kohlrabieintopf mit Geflügelbällchen
DESCRIPTION:Nährwertangaben pro Portion1264kJ / 302kcal\,  Fett: 11\, 3g\,
   gesättigte Fettsäuren: 2\, 2g\,  Kohlenhydrate: 32\, 4g\,  Zucker: 6\, 
 5g\,  Ballaststoffe: 5\, 9g\,  Eiweiß: 14\, 6g\,  Salz: 5\, 72g\,  Kohlenh
 ydrateinheiten: 3\, 2\,  Broteinheiten: 2\, 7\nhttps://berufsbildungswerk-v
 olmarstein.de/events/a-deftige-frikadelle-auf-gemuese-22/
URL:https://berufsbildungswerk-volmarstein.de/events/a-deftige-frikadelle-auf-gemuese-22/
END:VEVENT
END:VCALENDAR