BEGIN:VCALENDAR
VERSION:2.0
PRODID:-//eventon.com NONSGML v1.0//EN
CALSCALE:GREGORIAN
METHOD:PUBLISH
BEGIN:VEVENT
UID:69eccb6f02364
DTSTAMP:20260425T141055Z
DTSTART:20260502T100000Z
DTEND:20260502T113000Z
LOCATION:
SUMMARY:C - Feinschmecker Reibekuchen
DESCRIPTION:Feinschmecker ReibekuchenApfelmus Nährwertangaben pro Portion1
 828kJ / 437kcal\,  Fett: 20\, 2g\,  gesättigte Fettsäuren: 1\, 9g\,  Kohl
 enhydrate: 54\, 4g\,  Zucker: 16\, 1g\,  Ballaststoffe: 5\, 2g\,  Eiweiß: 
 6\, 4g\,  Salz: 2\, 06g\,  Kohlenhydrateinheiten: 5\, 4\,  Broteinheiten: 4
 \, 5\nhttps://berufsbildungswerk-volmarstein.de/events/a-deftige-frikadelle
 -auf-gemuese-20/
URL:https://berufsbildungswerk-volmarstein.de/events/a-deftige-frikadelle-auf-gemuese-20/
END:VEVENT
END:VCALENDAR