BEGIN:VCALENDAR
VERSION:2.0
PRODID:-//eventon.com NONSGML v1.0//EN
CALSCALE:GREGORIAN
METHOD:PUBLISH
BEGIN:VEVENT
UID:69ecce6ad4b69
DTSTAMP:20260425T142338Z
DTSTART:20260502T100000Z
DTEND:20260502T113000Z
LOCATION:
SUMMARY:B - Geflügelbällchen in Rahmsoße
DESCRIPTION:Geflügelbällchen in RahmsoßeBrokkoli "naturell"Spiralnudeln 
 mit Ei Nährwertangaben pro Portion2207kJ / 526kcal\,  Fett: 20\, 8g\,  ges
 ättigte Fettsäuren: 6\, 6g\,  Kohlenhydrate: 57\, 8g\,  Zucker: 4\, 3g\, 
  Ballaststoffe: 5\, 6g\,  Eiweiß: 23\, 9g\,  Salz: 4\, 47g\,  Kohlenhydrat
 einheiten: 5\, 9\,  Broteinheiten: 4\, 7\nhttps://berufsbildungswerk-volmar
 stein.de/events/a-deftige-frikadelle-auf-gemuese-19/
URL:https://berufsbildungswerk-volmarstein.de/events/a-deftige-frikadelle-auf-gemuese-19/
END:VEVENT
END:VCALENDAR