BEGIN:VCALENDAR
VERSION:2.0
PRODID:-//eventon.com NONSGML v1.0//EN
CALSCALE:GREGORIAN
METHOD:PUBLISH
BEGIN:VEVENT
UID:69ecce24c9046
DTSTAMP:20260425T142228Z
DTSTART:20260502T100000Z
DTEND:20260502T113000Z
LOCATION:
SUMMARY:A - Paniertes Schweineschnitzel
DESCRIPTION:Paniertes SchweineschnitzelHelle ChampignonsoßeKräuterkartoff
 elnSalat / Rohkost Nährwertangaben pro Portion2115kJ / 506kcal\,  Fett: 25
 \, 4g\,  gesättigte Fettsäuren: 4\, 8g\,  Kohlenhydrate: 46\, 8g\,  Zucke
 r: 4\, 8g\,  Ballaststoffe: 4\, 9g\,  Eiweiß: 19\, 2g\,  Salz: 3\, 17g\,  
 Kohlenhydrateinheiten: 4\, 7\,  Broteinheiten: 3\, 9\nhttps://berufsbildung
 swerk-volmarstein.de/events/a-deftige-frikadelle-auf-gemuese-18/
URL:https://berufsbildungswerk-volmarstein.de/events/a-deftige-frikadelle-auf-gemuese-18/
END:VEVENT
END:VCALENDAR