BEGIN:VCALENDAR
VERSION:2.0
PRODID:-//eventon.com NONSGML v1.0//EN
CALSCALE:GREGORIAN
METHOD:PUBLISH
BEGIN:VEVENT
UID:69eccd78407d8
DTSTAMP:20260425T141936Z
DTSTART:20260501T100000Z
DTEND:20260501T113000Z
LOCATION:
SUMMARY:B - Makkaroniauflauf "vegetarisch"
DESCRIPTION:Makkaroniauflauf "vegetarisch"Salat der Saison Nährwertangaben
  pro Portion2428kJ / 579kcal\,  Fett: 28\, 5g\,  gesättigte Fettsäuren: 6
 \, 8g\,  Kohlenhydrate: 55\, 4g\,  Zucker: 13\, 7g\,  Ballaststoffe: 5\, 8g
 \,  Eiweiß: 21\, 9g\,  Salz: 4\, 08g\,  Kohlenhydrateinheiten: 5\, 5\,  Br
 oteinheiten: 4\, 7\nhttps://berufsbildungswerk-volmarstein.de/events/a-deft
 ige-frikadelle-auf-gemuese-17/
URL:https://berufsbildungswerk-volmarstein.de/events/a-deftige-frikadelle-auf-gemuese-17/
END:VEVENT
END:VCALENDAR