BEGIN:VCALENDAR
VERSION:2.0
PRODID:-//eventon.com NONSGML v1.0//EN
CALSCALE:GREGORIAN
METHOD:PUBLISH
BEGIN:VEVENT
UID:69eccad090684
DTSTAMP:20260425T140816Z
DTSTART:20260501T100000Z
DTEND:20260501T113000Z
LOCATION:
SUMMARY:A - Mienudelpfanne "Asia-Style"
DESCRIPTION:Nährwertangaben pro Portion2112kJ / 504kcal\,  Fett: 15\, 2g\,
   gesättigte Fettsäuren: 1\, 6g\,  Kohlenhydrate: 72\, 4g\,  Zucker: 3\, 
 2g\,  Ballaststoffe: 6\, 4g\,  Eiweiß: 15\, 2g\,  Salz: 4\, 56g\,  Kohlenh
 ydrateinheiten: 7\, 2\,  Broteinheiten: 6\, 0\nhttps://berufsbildungswerk-v
 olmarstein.de/events/a-deftige-frikadelle-auf-gemuese-16/
URL:https://berufsbildungswerk-volmarstein.de/events/a-deftige-frikadelle-auf-gemuese-16/
END:VEVENT
END:VCALENDAR