BEGIN:VCALENDAR
VERSION:2.0
PRODID:-//eventon.com NONSGML v1.0//EN
CALSCALE:GREGORIAN
METHOD:PUBLISH
BEGIN:VEVENT
UID:69eccab83230b
DTSTAMP:20260425T140752Z
DTSTART:20260430T100000Z
DTEND:20260430T113000Z
LOCATION:
SUMMARY:B - Kesselgulasch vom Rind
DESCRIPTION:Kesselgulasch vom RindMakkaroni Nährwertangaben pro Portion243
 4kJ / 574kcal\,  Fett: 10\, 3g\,  gesättigte Fettsäuren: 2\, 0g\,  Kohlen
 hydrate: 72\, 4g\,  Zucker: 5\, 3g\,  Ballaststoffe: 5\, 4g\,  Eiweiß: 45\
 , 8g\,  Salz: 4\, 38g\,  Kohlenhydrateinheiten: 7\, 3\,  Broteinheiten: 6\,
  0\nhttps://berufsbildungswerk-volmarstein.de/events/a-deftige-frikadelle-a
 uf-gemuese-14/
URL:https://berufsbildungswerk-volmarstein.de/events/a-deftige-frikadelle-auf-gemuese-14/
END:VEVENT
END:VCALENDAR