BEGIN:VCALENDAR
VERSION:2.0
PRODID:-//eventon.com NONSGML v1.0//EN
CALSCALE:GREGORIAN
METHOD:PUBLISH
BEGIN:VEVENT
UID:69ecce92023f9
DTSTAMP:20260425T142418Z
DTSTART:20260430T100000Z
DTEND:20260430T113000Z
LOCATION:
SUMMARY:A - Schweinerückenschnitzel; paniert
DESCRIPTION:Schweinerückenschnitzel; paniertBraune RahmsoßeSalat der Sais
 onKartoffelkroketten Nährwertangaben pro Portion2889kJ / 689kcal\,  Fett: 
 30\, 9g\,  gesättigte Fettsäuren: 6\, 5g\,  Kohlenhydrate: 67\, 9g\,  Zuc
 ker: 3\, 3g\,  Ballaststoffe: 3\, 5g\,  Eiweiß: 32\, 6g\,  Salz: 5\, 10g\,
   Kohlenhydrateinheiten: 2\, 5\,  Broteinheiten: 6\nhttps://berufsbildungsw
 erk-volmarstein.de/events/a-deftige-frikadelle-auf-gemuese-13/
URL:https://berufsbildungswerk-volmarstein.de/events/a-deftige-frikadelle-auf-gemuese-13/
END:VEVENT
END:VCALENDAR