BEGIN:VCALENDAR
VERSION:2.0
PRODID:-//eventon.com NONSGML v1.0//EN
CALSCALE:GREGORIAN
METHOD:PUBLISH
BEGIN:VEVENT
UID:69eccdf9da061
DTSTAMP:20260425T142145Z
DTSTART:20260429T100000Z
DTEND:20260429T113000Z
LOCATION:
SUMMARY:C - Kartoffel-Endivien-Puffer
DESCRIPTION:Kartoffel-Endivien-PufferKrÃ¤uterquark (20%)Salat der Saison NÃ
 ¤hrwertangaben pro Portion1783kJ / 426kcal\,  Fett: 22\, 8g\,  gesÃ¤ttigte 
 FettsÃ¤uren: 10\, 4g\,  Kohlenhydrate: 35\, 2g\,  Zucker: 8\, 8g\,  Ballast
 stoffe: 5\, 9g\,  EiweiÃŸ: 15\, 9g\,  Salz: 2\, 23g\,  Kohlenhydrateinheite
 n: 3\, 6\,  Broteinheiten: 3\, 0\nhttps://berufsbildungswerk-volmarstein.de
 /events/a-deftige-frikadelle-auf-gemuese-12/
URL:https://berufsbildungswerk-volmarstein.de/events/a-deftige-frikadelle-auf-gemuese-12/
END:VEVENT
END:VCALENDAR