BEGIN:VCALENDAR
VERSION:2.0
PRODID:-//eventon.com NONSGML v1.0//EN
CALSCALE:GREGORIAN
METHOD:PUBLISH
BEGIN:VEVENT
UID:69eccdf398c84
DTSTAMP:20260425T142139Z
DTSTART:20260429T100000Z
DTEND:20260429T113000Z
LOCATION:
SUMMARY:B - Putengeschnetzeltes in Rahmsoße mit Gemüse
DESCRIPTION:Putengeschnetzeltes in Rahmsoße mit GemüseBunte Farfallenudel
 nSalat der Saison Nährwertangaben pro Portion1823kJ / 434kcal\,  Fett: 15\
 , 0g\,  gesättigte Fettsäuren: 6\, 0g\,  Kohlenhydrate: 46\, 9g\,  Zucker
 : 4\, 8g\,  Ballaststoffe: 3\, 7g\,  Eiweiß: 25\, 6g\,  Salz: 3\, 52g\,  K
 ohlenhydrateinheiten: 4\, 8\,  Broteinheiten: 4\nhttps://berufsbildungswerk
 -volmarstein.de/events/a-deftige-frikadelle-auf-gemuese-11/
URL:https://berufsbildungswerk-volmarstein.de/events/a-deftige-frikadelle-auf-gemuese-11/
END:VEVENT
END:VCALENDAR