BEGIN:VCALENDAR
VERSION:2.0
PRODID:-//eventon.com NONSGML v1.0//EN
CALSCALE:GREGORIAN
METHOD:PUBLISH
BEGIN:VEVENT
UID:69eccc27a00fb
DTSTAMP:20260425T141359Z
DTSTART:20260429T100000Z
DTEND:20260429T113000Z
LOCATION:
SUMMARY:A - Riesen-Rostbratwurst vom Schwein
DESCRIPTION:Riesen-Rostbratwurst vom SchweinCurry-Ketchup-SoßeWellenschnit
 tpommesKrautsalat Nährwertangaben pro Portion4280kJ / 1028kcal\,  Fett: 59
 \, 1g\,  gesättigte Fettsäuren: 16\, 9g\,  Kohlenhydrate: 89\, 1g\,  Zuck
 er: 19\, 9g\,  Ballaststoffe: 8\, 9g\,  Eiweiß: 29\, 0g\,  Salz: 6\, 22g\,
   Kohlenhydrateinheiten: 8\, 9\,  Broteinheiten: 7\, 4\nhttps://berufsbildu
 ngswerk-volmarstein.de/events/a-deftige-frikadelle-auf-gemuese-10/
URL:https://berufsbildungswerk-volmarstein.de/events/a-deftige-frikadelle-auf-gemuese-10/
END:VEVENT
END:VCALENDAR