BEGIN:VCALENDAR
VERSION:2.0
PRODID:-//eventon.com NONSGML v1.0//EN
CALSCALE:GREGORIAN
METHOD:PUBLISH
BEGIN:VEVENT
UID:69ecce384abf2
DTSTAMP:20260425T142248Z
DTSTART:20260428T100000Z
DTEND:20260428T113000Z
LOCATION:
SUMMARY:C - Veggie-Bällchen "Fresh kick"
DESCRIPTION:Veggie-Bällchen "Fresh kick"| Vegetarisches Bällchen auf Soja
 - und Weizenbasis in heller SoßeLangkornreisSalat der Saison Nährwertanga
 ben pro Portion2304kJ / 548kcal\,  Fett: 21\, 5g\,  gesättigte Fettsäuren
 : 6\, 4g\,  Kohlenhydrate: 63\, 7g\,  Zucker: 8\, 2g\,  Ballaststoffe: 6\, 
 1g\,  Eiweiß: 21\, 3g\,  Salz: 3\, 58g\,  Kohlenhydrateinheiten: 6\, 4\,  
 Broteinheiten: 5\, 3\nhttps://berufsbildungswerk-volmarstein.de/events/a-de
 ftige-frikadelle-auf-gemuese-9/
URL:https://berufsbildungswerk-volmarstein.de/events/a-deftige-frikadelle-auf-gemuese-9/
END:VEVENT
END:VCALENDAR