BEGIN:VCALENDAR
VERSION:2.0
PRODID:-//eventon.com NONSGML v1.0//EN
CALSCALE:GREGORIAN
METHOD:PUBLISH
BEGIN:VEVENT
UID:69eccb164000c
DTSTAMP:20260425T140926Z
DTSTART:20260428T100000Z
DTEND:20260428T113000Z
LOCATION:
SUMMARY:B - Rinderfrikadelle
DESCRIPTION:RinderfrikadelleBraune RahmsoßeKohlrabigemüse in SoßeKartoff
 elpüree Nährwertangaben pro Portion2525kJ / 605kcal\,  Fett: 35\, 4g\,  g
 esättigte Fettsäuren: 12\, 6g\,  Kohlenhydrate: 48\, 4g\,  Zucker: 10\, 2
 g\,  Ballaststoffe: 4\, 9g\,  Eiweiß: 20\, 1g\,  Salz: 5\, 90g\,  Kohlenhy
 drateinheiten: 4\, 9\,  Broteinheiten: 4\, 2\nhttps://berufsbildungswerk-vo
 lmarstein.de/events/a-deftige-frikadelle-auf-gemuese-8/
URL:https://berufsbildungswerk-volmarstein.de/events/a-deftige-frikadelle-auf-gemuese-8/
END:VEVENT
END:VCALENDAR