BEGIN:VCALENDAR
VERSION:2.0
PRODID:-//eventon.com NONSGML v1.0//EN
CALSCALE:GREGORIAN
METHOD:PUBLISH
BEGIN:VEVENT
UID:69eccdc559333
DTSTAMP:20260425T142053Z
DTSTART:20260428T100000Z
DTEND:20260428T113000Z
LOCATION:
SUMMARY:A - Hähnchenfilets "Gärtnerin Art" in Rahmsoße
DESCRIPTION:Hähnchenfilets "Gärtnerin Art" in RahmsoßeLangkornreisSalat 
 der Saison Nährwertangaben pro Portion1448kJ / 343kcal\,  Fett: 10\, 0g\, 
  gesättigte Fettsäuren: 4\, 5g\,  Kohlenhydrate: 43\, 4g\,  Zucker: 3\, 4
 g\,  Ballaststoffe: 2\, 6g\,  Eiweiß: 19\, 0g\,  Salz: 3\, 18g\,  Kohlenhy
 drateinheiten: 4\, 4\,  Broteinheiten: 4\nhttps://berufsbildungswerk-volmar
 stein.de/events/a-deftige-frikadelle-auf-gemuese-7/
URL:https://berufsbildungswerk-volmarstein.de/events/a-deftige-frikadelle-auf-gemuese-7/
END:VEVENT
END:VCALENDAR