BEGIN:VCALENDAR
VERSION:2.0
PRODID:-//eventon.com NONSGML v1.0//EN
CALSCALE:GREGORIAN
METHOD:PUBLISH
BEGIN:VEVENT
UID:69eccdca17379
DTSTAMP:20260425T142058Z
DTSTART:20260427T100000Z
DTEND:20260427T113000Z
LOCATION:
SUMMARY:B - Albôndigas en Tomate
DESCRIPTION:Albôndigas en Tomate| Hackfleischbällchen aus Rindfleisch und
  Sonnenblumenprotein in einer fruchtig-scharfen TomatensoßeDjuvec-Reis; Ge
 müse-Curry-ReisSalat der Saison Nährwertangaben pro Portion2327kJ / 555kc
 al\,  Fett: 23\, 7g\,  gesättigte Fettsäuren: 7\, 6g\,  Kohlenhydrate: 56
 \, 5g\,  Zucker: 10\, 5g\,  Ballaststoffe: 6\, 5g\,  Eiweiß: 25\, 5g\,  Sa
 lz: 5\, 38g\,  Kohlenhydrateinheiten: 5\, 5\,  Broteinheiten: 5\nhttps://be
 rufsbildungswerk-volmarstein.de/events/a-deftige-frikadelle-auf-gemuese-5/
URL:https://berufsbildungswerk-volmarstein.de/events/a-deftige-frikadelle-auf-gemuese-5/
END:VEVENT
END:VCALENDAR