BEGIN:VCALENDAR
VERSION:2.0
PRODID:-//eventon.com NONSGML v1.0//EN
CALSCALE:GREGORIAN
METHOD:PUBLISH
BEGIN:VEVENT
UID:69eccc194abb7
DTSTAMP:20260425T141345Z
DTSTART:20260427T100000Z
DTEND:20260427T113000Z
LOCATION:
SUMMARY:A - Hähnchenrahmgulasch in einer Geflügelsoße
DESCRIPTION:Hähnchenrahmgulasch in einer GeflügelsoßeButtergemüse "natu
 rell"Spiralnudeln mit Ei Nährwertangaben pro Portion2766kJ / 658kcal\,  Fe
 tt: 20\, 4g\,  gesättigte Fettsäuren: 10\, 2g\,  Kohlenhydrate: 73\, 7g\,
   Zucker: 10\, 0g\,  Ballaststoffe: 7\, 8g\,  Eiweiß: 40\, 4g\,  Salz: 5\,
  33g\,  Kohlenhydrateinheiten: 7\, 3\,  Broteinheiten: 6\, 2\nhttps://beruf
 sbildungswerk-volmarstein.de/events/a-deftige-frikadelle-auf-gemuese-4/
URL:https://berufsbildungswerk-volmarstein.de/events/a-deftige-frikadelle-auf-gemuese-4/
END:VEVENT
END:VCALENDAR