BEGIN:VCALENDAR
VERSION:2.0
PRODID:-//eventon.com NONSGML v1.0//EN
CALSCALE:GREGORIAN
METHOD:PUBLISH
BEGIN:VEVENT
UID:69e897369166f
DTSTAMP:20260422T093902Z
DTSTART:20260426T100000Z
DTEND:20260426T113000Z
LOCATION:
SUMMARY:C - Veggie-Cevapcici
DESCRIPTION:Veggie-Cevapcici (auf Erbsenbasis) in herzhaft-bunter Paprikaso
 ße mit Stücken von PaprikaGrüne Bohnen "naturell"Kräuterkartoffeln Näh
 rwertangaben pro Portion2384kJ / 571kcal\,  Fett: 26\, 5g\,  gesättigte Fe
 ttsäuren: 2\, 6g\,  Kohlenhydrate: 57\, 6g\,  Zucker: 12\, 4g\,  Ballastst
 offe: 10\, 9g\,  Eiweiß: 19\, 3g\,  Salz: 4\, 89g\,  Kohlenhydrateinheiten
 : 5\, 8\,  Broteinheiten: 4\, 7\nhttps://berufsbildungswerk-volmarstein.de/
 events/a-deftige-frikadelle-auf-gemuese-3/
URL:https://berufsbildungswerk-volmarstein.de/events/a-deftige-frikadelle-auf-gemuese-3/
END:VEVENT
END:VCALENDAR