BEGIN:VCALENDAR
VERSION:2.0
PRODID:-//eventon.com NONSGML v1.0//EN
CALSCALE:GREGORIAN
METHOD:PUBLISH
BEGIN:VEVENT
UID:69e897afd4d0c
DTSTAMP:20260422T094103Z
DTSTART:20260426T100000Z
DTEND:20260426T113000Z
LOCATION:
SUMMARY:B - Feines Hühnerfrikassee
DESCRIPTION:Feines Hühnerfrikassee in delikater Rahmsoße mit Spargel und 
 ChampignonsKaisergemüse "naturell"Langkornreis Nährwertangaben pro Portio
 n1908kJ / 453kcal\,  Fett: 15\, 1g\,  gesättigte Fettsäuren: 7\, 4g\,  Ko
 hlenhydrate: 45\, 8g\,  Zucker: 9\, 0g\,  Ballaststoffe: 5\, 8g\,  Eiweiß:
  30\, 1g\,  Salz: 3\, 38g\,  Kohlenhydrateinheiten: 4\, 6\,  Broteinheiten:
  3\, 7\nhttps://berufsbildungswerk-volmarstein.de/events/a-deftige-frikadel
 le-auf-gemuese-2/
URL:https://berufsbildungswerk-volmarstein.de/events/a-deftige-frikadelle-auf-gemuese-2/
END:VEVENT
END:VCALENDAR