BEGIN:VCALENDAR
VERSION:2.0
PRODID:-//eventon.com NONSGML v1.0//EN
CALSCALE:GREGORIAN
METHOD:PUBLISH
BEGIN:VEVENT
UID:69e88273460ea
DTSTAMP:20260422T081027Z
DTSTART:20260425T100000Z
DTEND:20260425T113000Z
LOCATION:
SUMMARY:C - Gemüsecurry
DESCRIPTION:GemüsecurryLangkornreis Nährwertangaben pro Portion1463kJ / 3
 47kcal\,  Fett: 10\, 6g\,  gesättigte Fettsäuren: 8\, 8g\,  Kohlenhydrate
 : 52\, 7g\,  Zucker: 11\, 4g\,  Ballaststoffe: 6\, 1g\,  Eiweiß: 7\, 3g\, 
  Salz: 4\, 00g\,  Kohlenhydrateinheiten: 5\, 2\,  Broteinheiten: 4\, 4\nhtt
 ps://berufsbildungswerk-volmarstein.de/events/c-gemuesecurry/
URL:https://berufsbildungswerk-volmarstein.de/events/c-gemuesecurry/
END:VEVENT
END:VCALENDAR