BEGIN:VCALENDAR
VERSION:2.0
PRODID:-//eventon.com NONSGML v1.0//EN
CALSCALE:GREGORIAN
METHOD:PUBLISH
BEGIN:VEVENT
UID:69e884139a017
DTSTAMP:20260422T081723Z
DTSTART:20260425T100000Z
DTEND:20260425T113000Z
LOCATION:
SUMMARY:B - Eieromelette "Natur"
DESCRIPTION:Eieromelette "Natur"Blattspinat\,  grob gehacktKartoffelpüree 
 Nährwertangaben pro Portion1919kJ / 460kcal\,  Fett: 24\, 3g\,  gesättigt
 e Fettsäuren: 5\, 8g\,  Kohlenhydrate: 36\, 3g\,  Zucker: 4\, 2g\,  Ballas
 tstoffe: 6\, 0g\,  Eiweiß: 20\, 4g\,  Salz: 3\, 36g\,  Kohlenhydrateinheit
 en: 3\, 6\,  Broteinheiten: 2\, 9\nhttps://berufsbildungswerk-volmarstein.d
 e/events/b-eieromelette-natur/
URL:https://berufsbildungswerk-volmarstein.de/events/b-eieromelette-natur/
END:VEVENT
END:VCALENDAR