BEGIN:VCALENDAR
VERSION:2.0
PRODID:-//eventon.com NONSGML v1.0//EN
CALSCALE:GREGORIAN
METHOD:PUBLISH
BEGIN:VEVENT
UID:69e896d28aebc
DTSTAMP:20260422T093722Z
DTSTART:20260425T100000Z
DTEND:20260425T113000Z
LOCATION:
SUMMARY:A - Erbsensuppe mit geschnittener Wurst
DESCRIPTION:Nährwertangaben pro Portion2668kJ / 637kcal\,  Fett: 31\, 3g\,
   gesättigte Fettsäuren: 10\, 8g\,  Kohlenhydrate: 54\, 5g\,  Zucker: 4\,
  3g\,  Ballaststoffe: 13\, 5g\,  Eiweiß: 27\, 0g\,  Salz: 6\, 05g\,  Kohle
 nhydrateinheiten: 5\, 4\,  Broteinheiten: 4\, 3\nhttps://berufsbildungswerk
 -volmarstein.de/events/a-erbsensuppe-mit-geschnittener-wurst/
URL:https://berufsbildungswerk-volmarstein.de/events/a-erbsensuppe-mit-geschnittener-wurst/
END:VEVENT
END:VCALENDAR