BEGIN:VCALENDAR
VERSION:2.0
PRODID:-//eventon.com NONSGML v1.0//EN
CALSCALE:GREGORIAN
METHOD:PUBLISH
BEGIN:VEVENT
UID:69e8979974382
DTSTAMP:20260422T094041Z
DTSTART:20260424T100000Z
DTEND:20260424T113000Z
LOCATION:
SUMMARY:B - Gemüse-Lasagne alla Italia
DESCRIPTION:Nährwertangaben pro Portion1688kJ / 400kcal\,  Fett: 14\, 0g\,
   gesättigte Fettsäuren: 4\, 4g\,  Kohlenhydrate: 52\, 0g\,  Zucker: 13\,
  6g\,  Ballaststoffe: 2\, 8g\,  Eiweiß: 15\, 6g\,  Salz: 3\, 52g\,  Kohlen
 hydrateinheiten: 5\, 2\,  Broteinheiten: 4\, 4\nhttps://berufsbildungswerk-
 volmarstein.de/events/b-gemuese-lasagne-alla-italia/
URL:https://berufsbildungswerk-volmarstein.de/events/b-gemuese-lasagne-alla-italia/
END:VEVENT
END:VCALENDAR