BEGIN:VCALENDAR
VERSION:2.0
PRODID:-//eventon.com NONSGML v1.0//EN
CALSCALE:GREGORIAN
METHOD:PUBLISH
BEGIN:VEVENT
UID:69e8823812962
DTSTAMP:20260422T080928Z
DTSTART:20260424T100000Z
DTEND:20260424T113000Z
LOCATION:
SUMMARY:A - Chicken "Korma"
DESCRIPTION:Chicken "Korma" in scharfer CurrysoßeLangkornreisSalat der Sai
 son Nährwertangaben pro Portion2293kJ / 545kcal\,  Fett: 17\, 8g\,  gesät
 tigte Fettsäuren: 9\, 8g\,  Kohlenhydrate: 58\, 7g\,  Zucker: 16\, 1g\,  B
 allaststoffe: 4\, 0g\,  Eiweiß: 35\, 4g\,  Salz: 4\, 35g\,  Kohlenhydratei
 nheiten: 5\, 8\,  Broteinheiten: 5\, 0\nhttps://berufsbildungswerk-volmarst
 ein.de/events/a-chicken-korma/
URL:https://berufsbildungswerk-volmarstein.de/events/a-chicken-korma/
END:VEVENT
END:VCALENDAR