BEGIN:VCALENDAR
VERSION:2.0
PRODID:-//eventon.com NONSGML v1.0//EN
CALSCALE:GREGORIAN
METHOD:PUBLISH
BEGIN:VEVENT
UID:69e8812b691f2
DTSTAMP:20260422T080459Z
DTSTART:20260423T100000Z
DTEND:20260423T113000Z
LOCATION:
SUMMARY:C - Vegetarische Thai-Bolognese
DESCRIPTION:Vegetarische Thai-BologneseBandnudeln mit Ei Nährwertangaben p
 ro Portion1782kJ / 422kcal\,  Fett: 9\, 0g\,  gesättigte Fettsäuren: 1\, 
 2g\,  Kohlenhydrate: 61\, 0g\,  Zucker: 9\, 8g\,  Ballaststoffe: 7\, 8g\,  
 Eiweiß: 20\, 2g\,  Salz: 3\, 32g\,  Kohlenhydrateinheiten: 6\, 0\,  Brotei
 nheiten: 5\, 2\nhttps://berufsbildungswerk-volmarstein.de/events/c-vegetari
 sche-thai-bolognese/
URL:https://berufsbildungswerk-volmarstein.de/events/c-vegetarische-thai-bolognese/
END:VEVENT
END:VCALENDAR