BEGIN:VCALENDAR
VERSION:2.0
PRODID:-//eventon.com NONSGML v1.0//EN
CALSCALE:GREGORIAN
METHOD:PUBLISH
BEGIN:VEVENT
UID:69e891a6aed0c
DTSTAMP:20260422T091518Z
DTSTART:20260423T100000Z
DTEND:20260423T113000Z
LOCATION:
SUMMARY:B - Rindergeschnetzeltes
DESCRIPTION:Rindergeschnetzeltes; in Rahmsoße mit ChampignonsLangkornreisS
 alat der Saison Nährwertangaben pro Portion1527kJ / 364kcal\,  Fett: 11\, 
 2g\,  gesättigte Fettsäuren: 5\, 1g\,  Kohlenhydrate: 39\, 6g\,  Zucker: 
 3\, 1g\,  Ballaststoffe: 2\, 4g\,  Eiweiß: 24\, 7g\,  Salz: 2\, 72g\,  Koh
 lenhydrateinheiten: 3\, 8\,  Broteinheiten: 3\nhttps://berufsbildungswerk-v
 olmarstein.de/events/b-rindergeschnetzeltes/
URL:https://berufsbildungswerk-volmarstein.de/events/b-rindergeschnetzeltes/
END:VEVENT
END:VCALENDAR