BEGIN:VCALENDAR
VERSION:2.0
PRODID:-//eventon.com NONSGML v1.0//EN
CALSCALE:GREGORIAN
METHOD:PUBLISH
BEGIN:VEVENT
UID:69e88452c53b7
DTSTAMP:20260422T081826Z
DTSTART:20260423T100000Z
DTEND:20260423T113000Z
LOCATION:
SUMMARY:A - Schweineschnitzel "Cordon Bleu"
DESCRIPTION:Schweineschnitzel "Cordon Bleu" paniertKohlrabi-Karotten-Gemüs
 eKartoffelscheiben in Käse-Sahnesoße Nährwertangaben pro Portion2314kJ /
  551kcal\,  Fett: 24\, 6g\,  gesättigte Fettsäuren: 8\, 8g\,  Kohlenhydra
 te: 49\, 0g\,  Zucker: 6\, 3g\,  Ballaststoffe: 5\, 0g\,  Eiweiß: 30\, 7g\
 ,  Salz: 4\, 16g\,  Kohlenhydrateinheiten: 4\, 8\,  Broteinheiten: 4\, 0\nh
 ttps://berufsbildungswerk-volmarstein.de/events/a-schweineschnitzel-cordon-
 bleu/
URL:https://berufsbildungswerk-volmarstein.de/events/a-schweineschnitzel-cordon-bleu/
END:VEVENT
END:VCALENDAR