BEGIN:VCALENDAR
VERSION:2.0
PRODID:-//eventon.com NONSGML v1.0//EN
CALSCALE:GREGORIAN
METHOD:PUBLISH
BEGIN:VEVENT
UID:69e892e6015d7
DTSTAMP:20260422T092038Z
DTSTART:20260422T100000Z
DTEND:20260422T113000Z
LOCATION:
SUMMARY:C - Vegetarischer RÃ¶sti
DESCRIPTION:Vegetarischer RÃ¶sti (Blumenkohl)KrÃ¤uterquarkWÃ¼rzige KrÃ¤uter
 kartoffeln; mit Thymian und ChiliSalat der Saison NÃ¤hrwertangaben pro Port
 ion2107kJ / 502kcal\,  Fett: 21\, 0g\,  gesÃ¤ttigte FettsÃ¤uren: 8\, 4g\,  
 Kohlenhydrate: 56\, 3g\,  Zucker: 5\, 6g\,  Ballaststoffe: 5\, 2g\,  EiweiÃ
 Ÿ: 17\, 0g\,  Salz: 3\, 90g\,  Kohlenhydrateinheiten: 5\, 2\,  Broteinheite
 n: 4\nhttps://berufsbildungswerk-volmarstein.de/events/c-vegetarischer-roes
 ti/
URL:https://berufsbildungswerk-volmarstein.de/events/c-vegetarischer-roesti/
END:VEVENT
END:VCALENDAR