BEGIN:VCALENDAR
VERSION:2.0
PRODID:-//eventon.com NONSGML v1.0//EN
CALSCALE:GREGORIAN
METHOD:PUBLISH
BEGIN:VEVENT
UID:69e884f580745
DTSTAMP:20260422T082109Z
DTSTART:20260422T100000Z
DTEND:20260422T113000Z
LOCATION:
SUMMARY:B - Bami Goreng mit Huhnfleisch
DESCRIPTION:Bami Goreng mit HuhnfleischAsiatische Gemüsesoße "süß-sauer
 "Salat der Saison Nährwertangaben pro Portion2524kJ / 598kcal\,  Fett: 16\
 , 0g\,  gesättigte Fettsäuren: 2\, 2g\,  Kohlenhydrate: 78\, 7g\,  Zucker
 : 16\, 5g\,  Ballaststoffe: 5\, 9g\,  Eiweiß: 32\, 0g\,  Salz: 6\, 29g\,  
 Kohlenhydrateinheiten: 8\, 0\,  Broteinheiten: 6\nhttps://berufsbildungswer
 k-volmarstein.de/events/b-bami-goreng-mit-huhnfleisch/
URL:https://berufsbildungswerk-volmarstein.de/events/b-bami-goreng-mit-huhnfleisch/
END:VEVENT
END:VCALENDAR