BEGIN:VCALENDAR
VERSION:2.0
PRODID:-//eventon.com NONSGML v1.0//EN
CALSCALE:GREGORIAN
METHOD:PUBLISH
BEGIN:VEVENT
UID:69e8967b64bf9
DTSTAMP:20260422T093555Z
DTSTART:20260422T100000Z
DTEND:20260422T113000Z
LOCATION:
SUMMARY:A - Gegrillte Hähnchenkeule
DESCRIPTION:Gegrillte HähnchenkeuleWellenschnittpommesSalat der Saison Nä
 hrwertangaben pro Portion3036kJ / 726kcal\,  Fett: 31\, 0g\,  gesättigte F
 ettsäuren: 7\, 0g\,  Kohlenhydrate: 64\, 2g\,  Ballaststoffe: 5\, 7g\,  Ei
 weiß: 43\, 5g\,  Salz: 2\, 31g\,  Kohlenhydrateinheiten: 6\, 2\,  Broteinh
 eiten: 5\nhttps://berufsbildungswerk-volmarstein.de/events/a-gegrillte-haeh
 nchenkeule/
URL:https://berufsbildungswerk-volmarstein.de/events/a-gegrillte-haehnchenkeule/
END:VEVENT
END:VCALENDAR